BEGIN:VCALENDAR
VERSION:2.0
PRODID:-//eventon.com NONSGML v1.0//EN
CALSCALE:GREGORIAN
METHOD:PUBLISH
BEGIN:VEVENT
UID:69e5ed52aba4e
DTSTAMP:20260420T090938Z
DTSTART:20251017T180000Z
DTEND:20251017T193000Z
LOCATION:Le Fresnoy - Studio national des arts contemporains 22 rue du Fresnoy 59200 Tourcoing 59200 Tourcoing
SUMMARY:TOURCOING - Ciné-Rencontre | Les Prières de Delphine
DESCRIPTION:Le portrait de Delphine\,  jeune Camerounaise marquée par une 
 enfance brisée\,  contrainte à la prostitution avant d’épouser un Belg
 e bien plus âgé\,  espérant offrir un avenir meilleur à sa fille.  Ren
 contre avec la réalisatrice Rosine Mfetgo MbakamDans le cadre du cycle Fem
 mes : regards singuliers\,  voix pluriellesEn partenariat avec Heure[..]\nh
 ttps://ideesorties.fr/events/tourcoing-cine-rencontre-les-prieres-de-delphi
 ne/
URL:https://ideesorties.fr/events/tourcoing-cine-rencontre-les-prieres-de-delphine/
END:VEVENT
END:VCALENDAR