BEGIN:VCALENDAR
VERSION:2.0
PRODID:-//eventon.com NONSGML v1.0//EN
CALSCALE:GREGORIAN
METHOD:PUBLISH
BEGIN:VEVENT
UID:69e5f59433ca1
DTSTAMP:20260420T094452Z
DTSTART:20251004T080000Z
DTEND:20251005T160000Z
LOCATION:Rue Jean Castel Wattrelos 59150 Wattrelos
SUMMARY:Wattrelos - Fête de l'Automne
DESCRIPTION:Plongez dans l’univers médiéval pour la Fête de l’Automn
 e « Au temps d’Excalibur »\,  à la ferme pédagogique du Parc du Lio
 n\,  40 rue Jean Castel à Wattrelos\,  le samedi 04 et le dimanche 05 octo
 bre\,  de 10h à 18h. Venez vivre une journée familiale pleine de magie et
  de découvertes !Au[..]\nhttps://ideesorties.fr/events/wattrelos-fete-de-l
 automne/
URL:https://ideesorties.fr/events/wattrelos-fete-de-lautomne/
END:VEVENT
END:VCALENDAR