BEGIN:VCALENDAR
VERSION:2.0
PRODID:-//eventon.com NONSGML v1.0//EN
CALSCALE:GREGORIAN
METHOD:PUBLISH
BEGIN:VEVENT
UID:69e8884264879
DTSTAMP:20260422T083514Z
DTSTART:20251002T160000Z
DTEND:20251005T210000Z
LOCATION:EuraTechnologies 165 Avenue de Bretagne 59000 Lille
SUMMARY:Lille - Street Food Festival
DESCRIPTION:Le Lille Street Food Festival fait son grand retour pour une no
 uvelle édition placée sous le signe de la gourmandise et de la fête ! Le
  Lille Street Food Festival revient pour sa cinquième édition à EuraTech
 nologies\,  du jeudi 2 au dimanche 5 octobre 2025 !Un rendez-vous incontour
 nable pour tous[..]\nhttps://ideesorties.fr/events/lille-street-food-festiv
 al/
URL:https://ideesorties.fr/events/lille-street-food-festival/
END:VEVENT
END:VCALENDAR