BEGIN:VCALENDAR
VERSION:2.0
PRODID:-//eventon.com NONSGML v1.0//EN
CALSCALE:GREGORIAN
METHOD:PUBLISH
BEGIN:VEVENT
UID:69e5f6b7b9a6b
DTSTAMP:20260420T094943Z
DTSTART:20251008T100000Z
DTEND:20251011T130000Z
LOCATION:
SUMMARY:ROUBAIX - Fête de la soupe
DESCRIPTION:Un rendez-vous convivial et festif pour célébrer le partage e
 t la créativité culinaire ! Au cœur des jardins familiaux\,  venez dégu
 ster de délicieuses soupes préparées par les habitants. Une belle occasi
 on de rencontrer vos voisins\,  de savourer des recettes originales et d’
 explorer une alimentation saine et gourmande. Mercredi 8 octobre[..]\nhttps
 ://ideesorties.fr/events/roubaix-fete-de-la-soupe/
URL:https://ideesorties.fr/events/roubaix-fete-de-la-soupe/
END:VEVENT
END:VCALENDAR