BEGIN:VCALENDAR
VERSION:2.0
PRODID:-//eventon.com NONSGML v1.0//EN
CALSCALE:GREGORIAN
METHOD:PUBLISH
BEGIN:VEVENT
UID:69e5f7fc7735f
DTSTAMP:20260420T095508Z
DTSTART:20250927T163000Z
DTEND:20250927T173000Z
LOCATION:Salle des Fêtes 6 Rue du Stade\,  59262 Sainghin-en-Mélantois
SUMMARY:LILLE - AD LIBITUM
DESCRIPTION:Deux danseurs décident de briser leurs habitudes.Ils imaginent
  des personnages\,  inventent de nouveaux gestes et se laissent guider par 
 leurs sensations autant que par leurs émotions.De cette recherche naît un
  spectacle où danse et musique se rencontrent\,  une véritable invitation
  à la liberté et à l’instant présent. GRATUIT LIEN RESERVATION:[..]
 \nhttps://ideesorties.fr/events/lille-ad-libitum/
URL:https://ideesorties.fr/events/lille-ad-libitum/
END:VEVENT
END:VCALENDAR