BEGIN:VCALENDAR
VERSION:2.0
PRODID:-//eventon.com NONSGML v1.0//EN
CALSCALE:GREGORIAN
METHOD:PUBLISH
BEGIN:VEVENT
UID:69e630c8e9e07
DTSTAMP:20260420T135728Z
DTSTART:20250920T080000Z
DTEND:20250921T160000Z
LOCATION:La Villa Cavrois 60 avenue John Fitzgerald Kennedy\,  59170 Croix\,  France
SUMMARY:Croix - Visite libre de la Villa Cavrois et de son parc
DESCRIPTION:Chef-d&rsquo;œuvre de l’architecture moderniste du XXe sièc
 le\,  la villa Cavrois vous accueille gratuitement !Immergez-vous dans l’
 élégance des années 30 et laissez-vous surprendre par les splendeurs et 
 les particularités uniques de cette demeure d’exception. Samedi 20/09 et
  dimanche 21/09 de 10h à 18h00 (dernière entrée à 17h15).\nhttps://idee
 sorties.fr/events/croix-visite-libre-de-la-villa-cavrois-et-de-son-parc/
URL:https://ideesorties.fr/events/croix-visite-libre-de-la-villa-cavrois-et-de-son-parc/
END:VEVENT
END:VCALENDAR