BEGIN:VCALENDAR
VERSION:2.0
PRODID:-//eventon.com NONSGML v1.0//EN
CALSCALE:GREGORIAN
METHOD:PUBLISH
BEGIN:VEVENT
UID:69e630bdc755f
DTSTAMP:20260420T135717Z
DTSTART:20250920T080000Z
DTEND:20250921T170000Z
LOCATION:Musée de Plein Air 143 Rue Colbert\,  59493 Villeneuve-d'Ascq
SUMMARY:Villeneuve d'Ascq - Visite du village du Musée de Plein Air
DESCRIPTION:Plongez dans l’ambiance d’un village du 19e siècle !Décou
 vrez les chaumières\,  leurs mystères et les croyances d’autrefois… s
 ans oublier l’incontournable Moulin de Vaudricourt ! Samedi 20/09 et Dima
 nche 21/09 : À partir de 10h (toutes les heures\,  sauf entre 12h et 13h) 
 : partez pour une visite guidée du Musée\, [..]\nhttps://ideesorties.fr/e
 vents/villeneuve-dascq-visite-du-village-du-musee-de-plein-air/
URL:https://ideesorties.fr/events/villeneuve-dascq-visite-du-village-du-musee-de-plein-air/
END:VEVENT
END:VCALENDAR