BEGIN:VCALENDAR
VERSION:2.0
PRODID:-//eventon.com NONSGML v1.0//EN
CALSCALE:GREGORIAN
METHOD:PUBLISH
BEGIN:VEVENT
UID:69e6306091907
DTSTAMP:20260420T135544Z
DTSTART:20250920T120000Z
DTEND:20250921T150000Z
LOCATION:Opéra de Lille Place du Théâtre\,  Lille
SUMMARY:Lille - Parade à tous les étages de l'Opéra
DESCRIPTION:Venez admirer les élèves du Conservatoire de Lille\,  ainsi q
 ue la magnifique architecture de l&rsquo;Opéra ! Le samedi 20/09 de 14h à
  17h30\,  le dimanche 21/09 de 13h30 à 17h. Entrée gratuite. &nbsp;\nhttp
 s://ideesorties.fr/events/lille-parade-a-tous-les-etages-de-lopera/
URL:https://ideesorties.fr/events/lille-parade-a-tous-les-etages-de-lopera/
END:VEVENT
END:VCALENDAR