BEGIN:VCALENDAR
VERSION:2.0
PRODID:-//eventon.com NONSGML v1.0//EN
CALSCALE:GREGORIAN
METHOD:PUBLISH
BEGIN:VEVENT
UID:69e6310fdd3c1
DTSTAMP:20260420T135839Z
DTSTART:20250920T110000Z
DTEND:20250921T160000Z
LOCATION:Le Musée La Piscine de Roubaix 23 rue de l'Espérance\,  59100 Roubaix
SUMMARY:Roubaix - L'architecture unique de La Piscine se dévoile
DESCRIPTION:À l’occasion des Journées du Patrimoine 2025\,  le musée d
 e La Piscine organise des visites\,  des animations et des conférences. -A
 nimations en famille : de 14h00 à 17h30 -Visites guidées : Architecte du
  musée La Piscine : 14h00 Sur réservation :_ [https://my.weezevent.com/vi
 site-guidee-par-jean-paul-philippon-architecte-du-musee](https://my.weezeve
 nt.com/visite-guidee-par-jean-paul-philippon-architecte-du-musee) Vitraux d
 e collections et du musée La Piscine :[..]\nhttps://ideesorties.fr/events/
 roubaix-larchitecture-unique-de-la-piscine-se-devoile/
URL:https://ideesorties.fr/events/roubaix-larchitecture-unique-de-la-piscine-se-devoile/
END:VEVENT
END:VCALENDAR