BEGIN:VCALENDAR
VERSION:2.0
PRODID:-//eventon.com NONSGML v1.0//EN
CALSCALE:GREGORIAN
METHOD:PUBLISH
BEGIN:VEVENT
UID:69e631156485d
DTSTAMP:20260420T135845Z
DTSTART:20250919T173000Z
DTEND:20250919T215900Z
LOCATION:Mairie de Lille Hôtel de Ville\,  Place Augustin-Laurent\,  59000 Lille
SUMMARY:Lille - Concert Couleur du temps - Par l'Ensemble Libertalia
DESCRIPTION:Ce programme vous transporte dans l’atmosphère de l’après
 -guerre\,  lorsque les musiques venues d’Amérique commencent à résonne
 r en Europe. À travers un hommage aux Années folles\,  il retrace la rich
 esse des métissages musicaux qui ont marqué cette époque. Sans réservat
 ion\,  dans la limite des places disponibles.\nhttps://ideesorties.fr/event
 s/lille-concert-couleur-du-temps-par-lensemble-libertalia/
URL:https://ideesorties.fr/events/lille-concert-couleur-du-temps-par-lensemble-libertalia/
END:VEVENT
END:VCALENDAR