BEGIN:VCALENDAR
VERSION:2.0
PRODID:-//eventon.com NONSGML v1.0//EN
CALSCALE:GREGORIAN
METHOD:PUBLISH
BEGIN:VEVENT
UID:69e6303d51ee1
DTSTAMP:20260420T135509Z
DTSTART:20250920T090000Z
DTEND:20250921T160000Z
LOCATION:La Teinturerie 102 boulevard Montesquieu\,  59100 Roubaix
SUMMARY:Roubaix - DÃ©couverte de l'histoire du site Roussel et de la Teinturerie\,  galerie d'art
DESCRIPTION:La galerie dâ€™art La Teinturerie a pris place sur une partie d
 e lâ€™ancien site de la teinturerie-blanchisserie Roussel Desrousseaux\,  d
 ont lâ€™activitÃ© sâ€™est arrÃªtÃ©e en 2003.Symbole toujours visible du pas
 sÃ© industriel\,  sa cheminÃ©e\,  la plus haute de Roubaix\,  domine encore
  le paysage.Une visite guidÃ©e permet de plonger dans lâ€™histoire singuliÃ
 ¨re de[..]\nhttps://ideesorties.fr/events/roubaix-decouverte-de-lhistoire-d
 u-site-roussel-et-de-la-teinturerie-galerie-dart/
URL:https://ideesorties.fr/events/roubaix-decouverte-de-lhistoire-du-site-roussel-et-de-la-teinturerie-galerie-dart/
END:VEVENT
END:VCALENDAR