BEGIN:VCALENDAR
VERSION:2.0
PRODID:-//eventon.com NONSGML v1.0//EN
CALSCALE:GREGORIAN
METHOD:PUBLISH
BEGIN:VEVENT
UID:69e630c374dfd
DTSTAMP:20260420T135723Z
DTSTART:20250921T070000Z
DTEND:20250921T215900Z
LOCATION:Loos 81 rue du Maréchal Foch
SUMMARY:Loos - Les Géants de Loos\,  un trésor du Nord
DESCRIPTION:Expositions\,  visites et découvertes\,  venez admirer les Gé
 ants de Loos\,  tradition régionale\,  personnages historiques\,  mythique
 s ou folkloriques. De nombreuses animations vous attendent. Dimanche 21 sep
 tembre 2025 à 9h00 et à 13h30.\nhttps://ideesorties.fr/events/les-geants-
 de-loos-un-tresor-du-nord/
URL:https://ideesorties.fr/events/les-geants-de-loos-un-tresor-du-nord/
END:VEVENT
END:VCALENDAR