BEGIN:VCALENDAR
VERSION:2.0
PRODID:-//eventon.com NONSGML v1.0//EN
CALSCALE:GREGORIAN
METHOD:PUBLISH
BEGIN:VEVENT
UID:69e6309ba350e
DTSTAMP:20260420T135643Z
DTSTART:20250920T080000Z
DTEND:20250921T160000Z
LOCATION:Palais des Beaux-Arts Place de la République\,  59 000 Lille
SUMMARY:Lille - Chasse aux trésors : les secrets cachés de la collection du Palais des Beaux-Arts
DESCRIPTION:Munis de votre carte au trésor\,  partez à l’aventure en fa
 mille à travers le musée et découvrez ses secrets bien cachés.Un parcou
 rs libre\,  à votre rythme\,  pour petits explorateurs et grands curieux !
  Samedi 20/09 et dimanche 21/09\,  de 10h à 18h – En autonomie Entrée g
 ratuite\nhttps://ideesorties.fr/events/chasse-aux-tresors-les-secrets-cache
 s-de-la-collection-du-palais-des-beaux-arts/
URL:https://ideesorties.fr/events/chasse-aux-tresors-les-secrets-caches-de-la-collection-du-palais-des-beaux-arts/
END:VEVENT
END:VCALENDAR