BEGIN:VCALENDAR
VERSION:2.0
PRODID:-//eventon.com NONSGML v1.0//EN
CALSCALE:GREGORIAN
METHOD:PUBLISH
BEGIN:VEVENT
UID:69e631100657c
DTSTAMP:20260420T135840Z
DTSTART:20250920T113000Z
DTEND:20250921T160000Z
LOCATION:THEATRE DU NORD 4 Place du Général de Gaulle\,  59 800 Lille
SUMMARY:Lille - Visite libre dans le Théâtre du Nord
DESCRIPTION:À l’occasion des Journées Européennes du Patrimoine\,  le 
 Théâtre du Nord ouvre chaque année ses portes au public\,  invitant à d
 écouvrir son bâtiment\,  son histoire\,  ses coulisses et la richesse de 
 ses activités. Au cours de cette visite\,  vous découvrirez la Grande sal
 le\,  la Petite salle\,  les loges\,  la salle[..]\nhttps://ideesorties.fr/
 events/visite-libre-dans-le-theatre-du-nord/
URL:https://ideesorties.fr/events/visite-libre-dans-le-theatre-du-nord/
END:VEVENT
END:VCALENDAR