BEGIN:VCALENDAR
VERSION:2.0
PRODID:-//eventon.com NONSGML v1.0//EN
CALSCALE:GREGORIAN
METHOD:PUBLISH
BEGIN:VEVENT
UID:69e630bdbe9ce
DTSTAMP:20260420T135717Z
DTSTART:20250920T173000Z
DTEND:20250920T215900Z
LOCATION:MusÃ©e des Arts et Traditions Populaires 96 Rue Francois MÃ©riaux 59150 Wattrelos
SUMMARY:Wattrelos - Orchestre International du VETEX
DESCRIPTION:Ã€ lâ€™occasion de Lille3000 Â«Â FiestaÂ Â» et des JournÃ©es du
  Patrimoine\,  le musÃ©e de Wattrelos vibrera aux sons de lâ€™Orchestre Int
 ernational du VETEX\,  invitÃ© par le service Culture de la Ville. Oubliez 
 la carte du monde : le Vetex est un territoire inventÃ©\,  nÃ© Ã  la croisÃ
 ©e des Balkans et de[..]\nhttps://ideesorties.fr/events/orchestre-internati
 onal-du-vetex/
URL:https://ideesorties.fr/events/orchestre-international-du-vetex/
END:VEVENT
END:VCALENDAR