BEGIN:VCALENDAR
VERSION:2.0
PRODID:-//eventon.com NONSGML v1.0//EN
CALSCALE:GREGORIAN
METHOD:PUBLISH
BEGIN:VEVENT
UID:69e5e42143797
DTSTAMP:20260420T083025Z
DTSTART:20250531T060000Z
DTEND:20250531T140000Z
LOCATION:le long des berges de la Lys Rue du 8 Mai
SUMMARY:Brocante - Saint-Venant
DESCRIPTION:Horaires visiteurs : 08h00 à 16h00 Entrée : Gratuite Exposant
 s : De 100 à 200 Type d&rsquo;exposants : Particuliers et professionnels A
 ménagements : Restauration / Buvette\,  WC\,  Extérieur\,  Parking\nhttps
 ://ideesorties.fr/events/brocante-saint-venant-2/
URL:https://ideesorties.fr/events/brocante-saint-venant-2/
END:VEVENT
END:VCALENDAR