BEGIN:VCALENDAR
VERSION:2.0
PRODID:-//eventon.com NONSGML v1.0//EN
CALSCALE:GREGORIAN
METHOD:PUBLISH
BEGIN:VEVENT
UID:69e5fa8228b2e
DTSTAMP:20260420T100554Z
DTSTART:20250524T060000Z
DTEND:20250524T170000Z
LOCATION:Rue des Jésuites\,  du paradis\,  de l&#039;Agneau Rue de Troisvilles
SUMMARY:Brocante - Inchy
DESCRIPTION:Horaires visiteurs : 08h00 à 19h00 Entrée : Gratuite Exposant
 s : De 100 à 200 Type d&rsquo;exposants : Particuliers et professionnels\n
 https://ideesorties.fr/events/brocante-inchy/
URL:https://ideesorties.fr/events/brocante-inchy/
END:VEVENT
END:VCALENDAR