BEGIN:VCALENDAR
VERSION:2.0
PRODID:-//eventon.com NONSGML v1.0//EN
CALSCALE:GREGORIAN
METHOD:PUBLISH
BEGIN:VEVENT
UID:69e5e4e4174b3
DTSTAMP:20260420T083340Z
DTSTART:20250524T110000Z
DTEND:20250524T170000Z
LOCATION:Rue Jean Moulin - rue Schuman- avenue du 8 mai 1945
SUMMARY:Brocante - Lambersart
DESCRIPTION:Horaires visiteurs : 13h00 à 19h00 Entrée : Gratuite Exposant
 s : De 200 à 300 Type d&rsquo;exposants : Particuliers Aménagements : WC\
 nhttps://ideesorties.fr/events/brocante-lambersart/
URL:https://ideesorties.fr/events/brocante-lambersart/
END:VEVENT
END:VCALENDAR