BEGIN:VCALENDAR
VERSION:2.0
PRODID:-//eventon.com NONSGML v1.0//EN
CALSCALE:GREGORIAN
METHOD:PUBLISH
BEGIN:VEVENT
UID:69e5e7efdcfc5
DTSTAMP:20260420T084639Z
DTSTART:20250518T060000Z
DTEND:20250518T150000Z
LOCATION:62124 Bertincourt
SUMMARY:Brocante - Betincourt
DESCRIPTION:Horaires visiteurs : 08h00 à 17h00 Entrée : Gratuite Exposant
 s : De 200 à 300 Type d&rsquo;exposants : Particuliers et professionnels A
 ménagements : Restauration / Buvette\,  WC\,  Extérieur\,  Animation / Ma
 nège\nhttps://ideesorties.fr/events/brocante-betincourt/
URL:https://ideesorties.fr/events/brocante-betincourt/
END:VEVENT
END:VCALENDAR