BEGIN:VCALENDAR
VERSION:2.0
PRODID:-//eventon.com NONSGML v1.0//EN
CALSCALE:GREGORIAN
METHOD:PUBLISH
BEGIN:VEVENT
UID:69e5f621a587c
DTSTAMP:20260420T094713Z
DTSTART:20260606T060000Z
DTEND:20260606T180000Z
LOCATION:la rue Saint-André\,  la rue du Pont Neuf\,  la rue de la Halle\,  la rue Saint-Sébastien\,  la place Saint-André et la rue de Metz
SUMMARY:Carnaval du Vieux Lille
DESCRIPTION:Le samedi 6 juin 2026\,  le Vieux-Lille s’animera pour célé
 brer le Carnaval du Brésil. Les festivités se dérouleront dans plusieurs
  rues emblématiques du quartier\,  dont la place du Concert\,  la rue de l
 a Collégiale\,  la place des Archives\,  la rue Saint-André\,  la rue du 
 Pont Neuf\,  la rue de la[..]\nhttps://ideesorties.fr/events/braderie-du-vi
 eux-lille/
URL:https://ideesorties.fr/events/braderie-du-vieux-lille/
END:VEVENT
END:VCALENDAR