BEGIN:VCALENDAR
VERSION:2.0
PRODID:-//eventon.com NONSGML v1.0//EN
CALSCALE:GREGORIAN
METHOD:PUBLISH
BEGIN:VEVENT
UID:69e5e5f84317c
DTSTAMP:20260420T083816Z
DTSTART:20250517T133000Z
DTEND:20250517T193000Z
LOCATION:Halles de Wazemmes Halles de Wazemmes
SUMMARY:Carnaval de Wazemmes
DESCRIPTION:Préparez-vous pour une après-midi de célébrations animée d
 ès 15h30\,  avec un cortège rythmé par les fanfares et les percussions\,
   en présence des Géants traditionnels ! Des activités créatives sous l
 es Halles\,  un concours de costumes et un défilé musical sont au program
 me&#8230; Fidèle à sa réputation\,  le Carnaval de Wazemmes[..]\nhttps:/
 /ideesorties.fr/events/carnaval-de-wazemmes/
URL:https://ideesorties.fr/events/carnaval-de-wazemmes/
END:VEVENT
END:VCALENDAR