BEGIN:VCALENDAR
VERSION:2.0
PRODID:-//eventon.com NONSGML v1.0//EN
CALSCALE:GREGORIAN
METHOD:PUBLISH
BEGIN:VEVENT
UID:69e88b55e3b69
DTSTAMP:20260422T084821Z
DTSTART:20250503T050000Z
DTEND:20250503T140000Z
LOCATION:Rue Maréchal Foch
SUMMARY:ROUVROY - Grand marché aux puces
DESCRIPTION:Horaires visiteurs : 07h00 à 16h00 Entrée : Gratuite Exposant
 s : De 200 à 300 Type d&rsquo;exposants : Particuliers et professionnels A
 ménagements : Restauration / Buvette\,  Extérieur\,  Animation / Manège\
 nhttps://ideesorties.fr/events/rouvroy-grand-marche-aux-puces/
URL:https://ideesorties.fr/events/rouvroy-grand-marche-aux-puces/
END:VEVENT
END:VCALENDAR