BEGIN:VCALENDAR
VERSION:2.0
PRODID:-//eventon.com NONSGML v1.0//EN
CALSCALE:GREGORIAN
METHOD:PUBLISH
BEGIN:VEVENT
UID:69e5e50d6ec01
DTSTAMP:20260420T083421Z
DTSTART:20250501T060000Z
DTEND:20250501T160000Z
LOCATION:Rue Jean Jaurès
SUMMARY:ANZIN - Brocante
DESCRIPTION:Horaires visiteurs : 8h00 à 18h00 Entrée : Gratuite Exposants
  : Plus de 300 Type d&rsquo;exposants : Particuliers et professionnels Amé
 nagements : Restauration / Buvette\,  Extérieur\nhttps://ideesorties.fr/ev
 ents/anzin-brocante/
URL:https://ideesorties.fr/events/anzin-brocante/
END:VEVENT
END:VCALENDAR