BEGIN:VCALENDAR
VERSION:2.0
PRODID:-//eventon.com NONSGML v1.0//EN
CALSCALE:GREGORIAN
METHOD:PUBLISH
BEGIN:VEVENT
UID:69e5f8801a491
DTSTAMP:20260420T095720Z
DTSTART:20260401T060000Z
DTEND:20260401T120000Z
LOCATION:59420 Mouvaux 59420 Mouvaux
SUMMARY:Braderie du 1er Mai 2026 à Mouvaux : un rendez-vous incontournable !
DESCRIPTION:Le 1er mai 2026\,  la ville de Mouvaux accueillera une nouvelle
  édition de sa célèbre braderie organisée par le Lions Club Mouvaux Le 
 Bosquiel. Cet événement annuel attire chaque année des milliers de visit
 eurs venus chiner\,  échanger et profiter d’un moment convivial au cœur
  de la ville. 📍 Un événement[..]\nhttps://ideesorties.fr/events/mouvau
 x-grande-braderie-de-mouvaux/
URL:https://ideesorties.fr/events/mouvaux-grande-braderie-de-mouvaux/
END:VEVENT
END:VCALENDAR