BEGIN:VCALENDAR
VERSION:2.0
PRODID:-//eventon.com NONSGML v1.0//EN
CALSCALE:GREGORIAN
METHOD:PUBLISH
BEGIN:VEVENT
UID:69e5f83f2c6f2
DTSTAMP:20260420T095615Z
DTSTART:20250420T060000Z
DTEND:20250420T130000Z
LOCATION:rues du cavin\,  Résistance et place du Rietz à Burbure rue du cavin
SUMMARY:Burebure - 37e puces du cavin
DESCRIPTION:Amateurs de bonnes affaires\,  rendez-vous à Burbure ! 🤩 La
  37ème édition des Puces du Cavin vous attend le dimanche 20 avril de 8h 
 à 15h sur la place du Rietz et les rues de la Résistance et des Poulains.
  Avec pas moins de 400 exposants annoncés\,  vous êtes sûrs[..]\nhttps:/
 /ideesorties.fr/events/burebure-37e-puces-du-cavin/
URL:https://ideesorties.fr/events/burebure-37e-puces-du-cavin/
END:VEVENT
END:VCALENDAR