BEGIN:VCALENDAR
VERSION:2.0
PRODID:-//eventon.com NONSGML v1.0//EN
CALSCALE:GREGORIAN
METHOD:PUBLISH
BEGIN:VEVENT
UID:69e60e8879912
DTSTAMP:20260420T113120Z
DTSTART:20250427T060000Z
DTEND:20250427T140000Z
LOCATION:
SUMMARY:Templeuve-en-Pévèle : Braderie jeux\,  jouets\,  vêtements
DESCRIPTION:Date : 27 avril 2025 Lieu : Salle polyvalente Informations prat
 iques : Entrée libre Restauration sur place Parking gratuit\nhttps://idees
 orties.fr/events/templeuve-en-pevele-braderie-jeux-jouets-vetements/
URL:https://ideesorties.fr/events/templeuve-en-pevele-braderie-jeux-jouets-vetements/
END:VEVENT
END:VCALENDAR