BEGIN:VCALENDAR
VERSION:2.0
PRODID:-//eventon.com NONSGML v1.0//EN
CALSCALE:GREGORIAN
METHOD:PUBLISH
BEGIN:VEVENT
UID:69e5f82183d40
DTSTAMP:20260420T095545Z
DTSTART:20250308T090000Z
DTEND:20250309T170000Z
LOCATION:Espace Culturel Jean de la fontaine 301 All. Pierre Macquart\,  62136 Lestrem
SUMMARY:Folies d'Art - Salon de Lestrem
DESCRIPTION:Plongez dans l&rsquo;univers de l&rsquo;art à Lestrem les 08 e
 t 09 mars 2025 ! Le salon « Folies d&rsquo;Art » met à l&rsquo;honneur
  peintres\,  artisans et photographes au Centre Culturel Jean de la Fontain
 e. Venez découvrir des œuvres uniques et échanger avec les artistes lors
  du vernissage le samedi à 11h. Un[..]\nhttps://ideesorties.fr/events/foli
 es-dart-salon-de-lestrem/
URL:https://ideesorties.fr/events/folies-dart-salon-de-lestrem/
END:VEVENT
END:VCALENDAR