BEGIN:VCALENDAR
VERSION:2.0
PRODID:-//eventon.com NONSGML v1.0//EN
CALSCALE:GREGORIAN
METHOD:PUBLISH
BEGIN:VEVENT
UID:69e5e6137935d
DTSTAMP:20260420T083843Z
DTSTART:20250214T123000Z
DTEND:20250214T183000Z
LOCATION:Place Gambetta Amiens
SUMMARY:ANIMATIONS SAINT-VALENTIN / COEUR SUR LA VILLE
DESCRIPTION:❤️ Amiens fête la Saint-Valentin ! 💕 📅 14 février 2
 025 | 13h30 &#8211; 19h30 💃 6 cœurs rouges déambuleront en centre-vill
 e pour câliner les passants et poser en photo !📸 Partage ton cliché av
 ec #Amienscœurdeville et repars avec un ballon en forme de cœur. 🎁 Les
  commerçants partenaires offrent[..]\nhttps://ideesorties.fr/events/animat
 ions-saint-valentin-coeur-sur-la-ville/
URL:https://ideesorties.fr/events/animations-saint-valentin-coeur-sur-la-ville/
END:VEVENT
END:VCALENDAR