BEGIN:VCALENDAR
VERSION:2.0
PRODID:-//eventon.com NONSGML v1.0//EN
CALSCALE:GREGORIAN
METHOD:PUBLISH
BEGIN:VEVENT
UID:69e60d69bf9b4
DTSTAMP:20260420T112633Z
DTSTART:20250126T150000Z
DTEND:20250126T230000Z
LOCATION:23 rue de l&#039;Espérance Roubaix 59100 Roubaix
SUMMARY:Animation Enfant : Le textile et les vêtements
DESCRIPTION:Animations pour enfants au musée – Tous les dimanches ! Chaq
 ue dimanche\,  de 16h à 17h30\,  le musée propose une activité dédiée 
 aux enfants dès 4 ans\,  qui accompagnent les visiteurs adultes. Pendant q
 ue les grands explorent les expositions\,  les plus jeunes profitent d’un
 e animation thématique alliant découverte et créativité.[..]\nhttps://i
 deesorties.fr/events/animation-enfant-le-textile-et-les-vetements/
URL:https://ideesorties.fr/events/animation-enfant-le-textile-et-les-vetements/
END:VEVENT
END:VCALENDAR