BEGIN:VCALENDAR
VERSION:2.0
PRODID:-//eventon.com NONSGML v1.0//EN
CALSCALE:GREGORIAN
METHOD:PUBLISH
BEGIN:VEVENT
UID:69e5f5929f912
DTSTAMP:20260420T094450Z
DTSTART:20250118T153000Z
DTEND:20250118T173000Z
LOCATION:médiathèque Jean Levy 32 rue Edouard Delesalle
SUMMARY:Collégiennes\,  collégiens ! - Lille
DESCRIPTION:Le Book Club des médiathèques Tu aimes lire\,  aller au ciné
 ma\,  ou encore écouter de la musique ? Alors rejoins notre atelier « Bo
 ok Club ». Au programme : des temps de discussion\,  de musique\,  d&rsqu
 o;écriture et de partage. Et profite-en pour faire le plein de romans\,  B
 D\,  mangas à la médiathèque[..]\nhttps://ideesorties.fr/events/collegie
 nnes-collegiens-lille/
URL:https://ideesorties.fr/events/collegiennes-collegiens-lille/
END:VEVENT
END:VCALENDAR