BEGIN:VCALENDAR
VERSION:2.0
PRODID:-//eventon.com NONSGML v1.0//EN
CALSCALE:GREGORIAN
METHOD:PUBLISH
BEGIN:VEVENT
UID:69e5f5c76e957
DTSTAMP:20260420T094543Z
DTSTART:20250111T093000Z
DTEND:20250111T113000Z
LOCATION:médiathèque de Fives 18 Rue Bourjembois
SUMMARY:A vous de jouer\,  à la bibliothèque ! - Lille
DESCRIPTION:Jeux coopératifs parents-enfants\,  pour bien commencer le wee
 k-end ! Matinée de jeux selectionnés par vos bibliothécaires et par l&rs
 quo;association lilloise « L&rsquo;école et son quartier ». Tentez l&r
 squo;expérience de jeux d’ambiance\,  jeux de mémoire\,  jeux de platea
 u\,  jeux de dés ou bien de connaissances… Il est temps de passer aux ch
 oses sérieuses[..]\nhttps://ideesorties.fr/events/a-vous-de-jouer-a-la-bib
 liotheque-lille-2/
URL:https://ideesorties.fr/events/a-vous-de-jouer-a-la-bibliotheque-lille-2/
END:VEVENT
END:VCALENDAR