BEGIN:VCALENDAR
VERSION:2.0
PRODID:-//eventon.com NONSGML v1.0//EN
CALSCALE:GREGORIAN
METHOD:PUBLISH
BEGIN:VEVENT
UID:69e5f82b2e0ad
DTSTAMP:20260420T095555Z
DTSTART:20251206T090000Z
DTEND:20251207T170000Z
LOCATION:Salle des Fêtes 6 Rue du Stade\,  59262 Sainghin-en-Mélantois
SUMMARY:Sainghin-en-Mélantois - Marché de Noël
DESCRIPTION:Notre marché de Noël prend de l’ampleur ! Les 6 et 7 décem
 bre 2025\,  plus de 30 exposants seront présents pour vous présenter leur
 s créations : bijoux\,  décorations\,  douceurs gourmandes et bien d’au
 tres idées pour tous les goûts. L’événement se déroulera dans une am
 biance chaleureuse et festive\,  rythmée par la[..]\nhttps://ideesorties.f
 r/events/marche-de-noel-sainghin-en-melantois/
URL:https://ideesorties.fr/events/marche-de-noel-sainghin-en-melantois/
END:VEVENT
END:VCALENDAR