BEGIN:VCALENDAR
VERSION:2.0
PRODID:-//eventon.com NONSGML v1.0//EN
CALSCALE:GREGORIAN
METHOD:PUBLISH
BEGIN:VEVENT
UID:69e5f8352734d
DTSTAMP:20260420T095605Z
DTSTART:20251207T090000Z
DTEND:20251207T170000Z
LOCATION:Atelier l&#039;Outil Commun 118 rue Faidherbe\,  La Madeleine 59110
SUMMARY:La Madeleine - Marché de Noël
DESCRIPTION:✨Pour cette deuxième édition\,  l’Outil Commun de La Made
 leine et le collectif créatif A5 s’associent pour proposer un marché de
  Noël réunissant de nombreux talents locaux. Les visiteurs pourront y exp
 lorer une variété de créations réalisées par les membres des deux stru
 ctures : pièces textiles\,  œuvres illustrées ou peintes\,  dessins\, [.
 .]\nhttps://ideesorties.fr/events/marche-de-noel-la-madeleine/
URL:https://ideesorties.fr/events/marche-de-noel-la-madeleine/
END:VEVENT
END:VCALENDAR