BEGIN:VCALENDAR
VERSION:2.0
PRODID:-//eventon.com NONSGML v1.0//EN
CALSCALE:GREGORIAN
METHOD:PUBLISH
BEGIN:VEVENT
UID:69e5e5779d290
DTSTAMP:20260420T083607Z
DTSTART:20251207T130000Z
DTEND:20251207T170000Z
LOCATION:Bachy
SUMMARY:Bachy - Marché de Noël
DESCRIPTION:Le dimanche 7 décembre\,  la ville de Bachy vous ouvre les por
 tes de son Marché de Noël. Au programme : un marché artisanal où vous p
 ourrez découvrir les créations de créateurs locaux\,  des animations pou
 r les enfants\,  de délicieuses gourmandises.\nhttps://ideesorties.fr/even
 ts/marche-de-noel-bachy/
URL:https://ideesorties.fr/events/marche-de-noel-bachy/
END:VEVENT
END:VCALENDAR