BEGIN:VCALENDAR
VERSION:2.0
PRODID:-//eventon.com NONSGML v1.0//EN
CALSCALE:GREGORIAN
METHOD:PUBLISH
BEGIN:VEVENT
UID:69e5f8040c5a0
DTSTAMP:20260420T095516Z
DTSTART:20251206T130000Z
DTEND:20251207T170000Z
LOCATION:Annœullin
SUMMARY:Annœullin - Marché de Noël
DESCRIPTION:La ville d’Annœullin vivra au rythme de Noël tout le week-e
 nd\,  dans une atmosphère conviviale et festive. Vous pourrez parcourir la
  salle Léo-Lagrange et découvrir divers stands et chalets d’artisanat\,
   accompagnés d’animations : maquillage pour enfants\,  sculptures de ba
 llons et intermèdes musicaux. Les enfants pourront également rencontrer l
 e Père Noël[..]\nhttps://ideesorties.fr/events/marche-de-noel-annoeullin/
URL:https://ideesorties.fr/events/marche-de-noel-annoeullin/
END:VEVENT
END:VCALENDAR