BEGIN:VCALENDAR
VERSION:2.0
PRODID:-//eventon.com NONSGML v1.0//EN
CALSCALE:GREGORIAN
METHOD:PUBLISH
BEGIN:VEVENT
UID:69e60b2b214f3
DTSTAMP:20260420T111659Z
DTSTART:20251129T100000Z
DTEND:20251129T170000Z
LOCATION:Hazbrouck
SUMMARY:Hazebrouck - Marché de Noël
DESCRIPTION:🌟 Marché de Noël de l’école Ferdinand Buisson–Lamarti
 ne (salle Despicht)Au programme : exposants\,  animations\,  buvette et pet
 ite restauration.🎅 Arrivée du Père Noël à 16hEntrée libre pour tous
  !\nhttps://ideesorties.fr/events/le-marche-de-noel-hazebrouck/
URL:https://ideesorties.fr/events/le-marche-de-noel-hazebrouck/
END:VEVENT
END:VCALENDAR