BEGIN:VCALENDAR
VERSION:2.0
PRODID:-//eventon.com NONSGML v1.0//EN
CALSCALE:GREGORIAN
METHOD:PUBLISH
BEGIN:VEVENT
UID:69e5e6199801a
DTSTAMP:20260420T083849Z
DTSTART:20241129T193000Z
DTEND:20241129T225900Z
LOCATION:Théâtre Jean Ferrat rue Saint Louis 59610 Fourmies
SUMMARY:TROUBLE DOSE
DESCRIPTION:Le groupe TroubleDose puise son inspiration chez des artistes c
 omme Clapton\,  Hendrix et Bonamassa\,  avec l&rsquo;ambition de dynamiser 
 la scène blues et rock en France. Ils fusionnent ces deux genres avec une 
 énergie rock saisissante. Les membres du groupe\,  aux influences musicale
 s variées\,  créent une palette sonore unique. Avec leur[..]\nhttps://ide
 esorties.fr/events/trouble-dose/
URL:https://ideesorties.fr/events/trouble-dose/
END:VEVENT
END:VCALENDAR