BEGIN:VCALENDAR
VERSION:2.0
PRODID:-//eventon.com NONSGML v1.0//EN
CALSCALE:GREGORIAN
METHOD:PUBLISH
BEGIN:VEVENT
UID:69e5e6406eb45
DTSTAMP:20260420T083928Z
DTSTART:20250817T050000Z
DTEND:20250817T150000Z
LOCATION:Place Albert Denvers et ses rues adjacentes Place Albert Denvers 59820 Gravelines Place du Docteur Calmette et rues adjacentes 59820 Gravelines
SUMMARY:Gravelines - Brocante
DESCRIPTION:Horaires visiteurs : 07h00 à 17h00 Entrée:  Gratuite Exposan
 ts : Plus de 300 Type d&rsquo;exposants : Particuliers et professionnels Am
 énagements : Extérieur\nhttps://ideesorties.fr/events/gravelines-braderie
 -de-petit-fort-philippe/
URL:https://ideesorties.fr/events/gravelines-braderie-de-petit-fort-philippe/
END:VEVENT
END:VCALENDAR