BEGIN:VCALENDAR
VERSION:2.0
PRODID:-//eventon.com NONSGML v1.0//EN
CALSCALE:GREGORIAN
METHOD:PUBLISH
BEGIN:VEVENT
UID:69e8b43ece5f9
DTSTAMP:20260422T114254Z
DTSTART:20250614T120000Z
DTEND:20250615T180000Z
LOCATION:Quartier du Chaufour Rues Victor Hugo\,  Louis Pasteur\,  des Rosiers\,  des Acacias et place des Lauriers Rues Victor Hugo\,  Louis Pasteur\,  des Rosiers\,  des Acacias et place des Lauriers 59165 Auberchicourt
SUMMARY:Auberchicourt - Brocante de la fête du Chaufour
DESCRIPTION:SAMEDI 14 JUIN et Dimanche 15 JUIN DE 14H à 20H 50 ans de la B
 ROCANTE QUARTIER DU CHAUFOUR &nbsp;\nhttps://ideesorties.fr/events/auberchi
 court-brocante-de-la-fete-du-chaufour/
URL:https://ideesorties.fr/events/auberchicourt-brocante-de-la-fete-du-chaufour/
END:VEVENT
END:VCALENDAR