BEGIN:VCALENDAR
VERSION:2.0
PRODID:-//eventon.com NONSGML v1.0//EN
CALSCALE:GREGORIAN
METHOD:PUBLISH
BEGIN:VEVENT
UID:69e5e6ca183f6
DTSTAMP:20260420T084146Z
DTSTART:20250615T050000Z
DTEND:20250615T110000Z
LOCATION:avenue du canon d&#039;or\,  rue marcel et jean calonne\,  rue de saint-alban\,  rue du château d&#039;houchin\,  rue &amp; parvis st gérard\,  allée de la cueillerie\,  rue des près à lambersart (59130) avenue du canon d'or\,  rue marcel et jean calonne\,  rue de saint-alban\,  rue du château d'houchin\,  rue & parvis st gérard\,  allée de la cueillerie\,  rue des près à lambersart (59130)
SUMMARY:Lambersart - La braderie du canon d'or
DESCRIPTION:Quartier Canon d&rsquo;Or Dimanche 15 juin 2025\,  de 7h à 13h
  Braderie organisée par l&rsquo;association Les p&rsquo;tits canons Rues c
 oncernées : avenue du Canon d’or\,  rue saint Alban\,  Jean et Marcel Ca
 loone\,  rue et parvis saint Gérard\,  rue de la Cueillerie\,  rue du Châ
 teau d’Houchin\,  rue des Prés Inscriptions :[..]\nhttps://ideesorties.f
 r/events/la-braderie-du-canon-dor/
URL:https://ideesorties.fr/events/la-braderie-du-canon-dor/
END:VEVENT
END:VCALENDAR