BEGIN:VCALENDAR
VERSION:2.0
PRODID:-//eventon.com NONSGML v1.0//EN
CALSCALE:GREGORIAN
METHOD:PUBLISH
BEGIN:VEVENT
UID:69e60d539124c
DTSTAMP:20260420T112611Z
DTSTART:20250508T040000Z
DTEND:20250508T143000Z
LOCATION:cour de l&#039;école Notre Dame 6 rue de la Prairie 59660 Merville
SUMMARY:Merville - Brocante
DESCRIPTION:Entrée : Gratuite Exposants : non communiqué Type d&rsquo;exp
 osants : Particuliers et professionnels Aménagements : Restauration / Buve
 tte\,  WC\nhttps://ideesorties.fr/events/merville-brocante/
URL:https://ideesorties.fr/events/merville-brocante/
END:VEVENT
END:VCALENDAR